BEGIN:VCALENDAR
VERSION:2.0
PRODID:-////NONSGML kigkonsult.se iCalcreator 2.22.1//
METHOD:PUBLISH
X-WR-CALNAME:iCal-Datei%2Bherunterladen
X-WR-CALDESC:iCal-Datei%2Bherunterladen
X-WR-TIMEZONE:Europe/Berlin
BEGIN:VEVENT
UID:20260425T232748CEST-7377VH8xX0@83.223.95.37
DTSTAMP:20260425T212748Z
DTSTART;VALUE=DATE:20160319
DTEND;VALUE=DATE:20160320
SUMMARY:RL / OL / RLPL: 13.
END:VEVENT
BEGIN:VEVENT
UID:20260425T232748CEST-73815B9tVJ@83.223.95.37
DTSTAMP:20260425T212748Z
DTSTART;VALUE=DATE:20160320
DTEND;VALUE=DATE:20160321
SUMMARY:RL / OL / RLPL: 14.
END:VEVENT
BEGIN:VEVENT
UID:20260425T232748CEST-7384OU76hN@83.223.95.37
DTSTAMP:20260425T212748Z
DTSTART;VALUE=DATE:20160408
DTEND;VALUE=DATE:20160411
SUMMARY:SWDM O35+ in Sömmerda/Thüringen
END:VEVENT
BEGIN:VEVENT
UID:20260425T232748CEST-7387kUwKb6@83.223.95.37
DTSTAMP:20260425T212748Z
DTSTART;VALUE=DATE:20160409
DTEND;VALUE=DATE:20160411
SUMMARY:SWD-MM U15/U19 (Bischmisheim)
END:VEVENT
BEGIN:VEVENT
UID:20260425T232748CEST-7390coiU43@83.223.95.37
DTSTAMP:20260425T212748Z
DTSTART;VALUE=DATE:20160409
DTEND;VALUE=DATE:20160410
SUMMARY:Offene Stadtmeisterschaften Mayen
END:VEVENT
BEGIN:VEVENT
UID:20260425T232748CEST-7392Kte5Md@83.223.95.37
DTSTAMP:20260425T212748Z
DTSTART;VALUE=DATE:20160416
DTEND;VALUE=DATE:20160418
SUMMARY:1. Nachwuchsturnier 2016 (SVE Mendig)
END:VEVENT
BEGIN:VEVENT
UID:20260425T232748CEST-7395kZZc6i@83.223.95.37
DTSTAMP:20260425T212748Z
DTSTART;VALUE=DATE:20160515
DTEND;VALUE=DATE:20160516
SUMMARY:Meldeschluss: 1. VICTOR RLT Einzel U13-U19
END:VEVENT
BEGIN:VEVENT
UID:20260425T232748CEST-7397v2oeoj@83.223.95.37
DTSTAMP:20260425T212748Z
DTSTART;VALUE=DATE:20160521
DTEND;VALUE=DATE:20160523
SUMMARY:1. VICTOR RLT Einzel U13-U19
END:VEVENT
BEGIN:VEVENT
UID:20260425T232748CEST-7400fOCO7z@83.223.95.37
DTSTAMP:20260425T212748Z
DTSTART;VALUE=DATE:20160528
DTEND;VALUE=DATE:20160530
SUMMARY:Lehrgang
END:VEVENT
BEGIN:VEVENT
UID:20260425T232748CEST-7402dk47NL@83.223.95.37
DTSTAMP:20260425T212748Z
DTSTART;VALUE=DATE:20160531
DTEND;VALUE=DATE:20160601
SUMMARY:Meldeschluss: RMM - Anzahl der Mannschaften
END:VEVENT
BEGIN:VEVENT
UID:20260425T232748CEST-7405KvVaub@83.223.95.37
DTSTAMP:20260425T212748Z
DTSTART;VALUE=DATE:20160604
DTEND;VALUE=DATE:20160606
SUMMARY:1. VICTOR RLT Doppel/Mixed U13-U19
END:VEVENT
BEGIN:VEVENT
UID:20260425T232748CEST-74075jCjXh@83.223.95.37
DTSTAMP:20260425T212748Z
DTSTART;VALUE=DATE:20160618
DTEND;VALUE=DATE:20160620
SUMMARY:2. VICTOR RLT Einzel U13-U19
END:VEVENT
BEGIN:VEVENT
UID:20260425T232748CEST-7410735Ug8@83.223.95.37
DTSTAMP:20260425T212748Z
DTSTART;VALUE=DATE:20160625
DTEND;VALUE=DATE:20160626
SUMMARY:BVR Mitgliederversammlung
END:VEVENT
BEGIN:VEVENT
UID:20260425T232748CEST-7412NLplam@83.223.95.37
DTSTAMP:20260425T212748Z
DTSTART;VALUE=DATE:20160626
DTEND;VALUE=DATE:20160627
SUMMARY:2. OLIVER Mini-Cup Einzel U9-U12
END:VEVENT
BEGIN:VEVENT
UID:20260425T232748CEST-7415LIvcNu@83.223.95.37
DTSTAMP:20260425T212748Z
DTSTART;VALUE=DATE:20160630
DTEND;VALUE=DATE:20160701
SUMMARY:Meldeschluss: RMM - Namentliche Ranglisten
END:VEVENT
BEGIN:VEVENT
UID:20260425T232748CEST-74170B3Ni4@83.223.95.37
DTSTAMP:20260425T212748Z
DTSTART;VALUE=DATE:20160702
DTEND;VALUE=DATE:20160704
SUMMARY:2. VICTOR RLT Doppel/Mixed U13-U19
END:VEVENT
BEGIN:VEVENT
UID:20260425T232748CEST-7419GavgeX@83.223.95.37
DTSTAMP:20260425T212748Z
DTSTART;VALUE=DATE:20160702
DTEND;VALUE=DATE:20160704
SUMMARY:Andernacher Bier-Cup
END:VEVENT
BEGIN:VEVENT
UID:20260425T232748CEST-7422uVsVc4@83.223.95.37
DTSTAMP:20260425T212748Z
DTSTART;VALUE=DATE:20160715
DTEND;VALUE=DATE:20160716
SUMMARY:RMM: Rückmeldung Änderungswünsche
END:VEVENT
BEGIN:VEVENT
UID:20260425T232748CEST-7424vGUzWU@83.223.95.37
DTSTAMP:20260425T212748Z
DTSTART;VALUE=DATE:20160716
DTEND;VALUE=DATE:20160717
SUMMARY:8.Tarforster Open
END:VEVENT
BEGIN:VEVENT
UID:20260425T232748CEST-7427vUCLRz@83.223.95.37
DTSTAMP:20260425T212748Z
DTSTART;VALUE=DATE:20160728
DTEND;VALUE=DATE:20160801
SUMMARY:Sparkassen SommerCamp
END:VEVENT
BEGIN:VEVENT
UID:20260425T232748CEST-7444gfivaL@83.223.95.37
DTSTAMP:20260425T212748Z
DTSTART;VALUE=DATE:20160806
DTEND;VALUE=DATE:20160807
SUMMARY:16. Doppel-Cup
END:VEVENT
BEGIN:VEVENT
UID:20260425T232748CEST-7447A5rl33@83.223.95.37
DTSTAMP:20260425T212748Z
DTSTART;VALUE=DATE:20160903
DTEND;VALUE=DATE:20160905
SUMMARY:1. SWD-RLT Einzel/Doppel U13-U19
END:VEVENT
BEGIN:VEVENT
UID:20260425T232748CEST-7449kZV8pu@83.223.95.37
DTSTAMP:20260425T212748Z
DTSTART;VALUE=DATE:20160904
DTEND;VALUE=DATE:20160905
SUMMARY:Meldeschluss: 1.BVR-RLT Einzel/Doppel/Mixed O19
END:VEVENT
BEGIN:VEVENT
UID:20260425T232748CEST-7452WEsES2@83.223.95.37
DTSTAMP:20260425T212748Z
DTSTART;VALUE=DATE:20160904
DTEND;VALUE=DATE:20160905
SUMMARY:Meldeschluss: BVR REM Breitensport Einzel/Doppel/Mixed O19
END:VEVENT
BEGIN:VEVENT
UID:20260425T232748CEST-7454zPmwGJ@83.223.95.37
DTSTAMP:20260425T212748Z
DTSTART;VALUE=DATE:20160907
DTEND;VALUE=DATE:20160908
SUMMARY:Meldeschluss VICTOR REM Doppel/Mixed 2016
END:VEVENT
BEGIN:VEVENT
UID:20260425T232748CEST-7457UaJlkT@83.223.95.37
DTSTAMP:20260425T212748Z
DTSTART;VALUE=DATE:20160910
DTEND;VALUE=DATE:20160912
SUMMARY:1. BVR-RLT Einzel/Doppel/Mixed O19
END:VEVENT
BEGIN:VEVENT
UID:20260425T232748CEST-7459gH8VNp@83.223.95.37
DTSTAMP:20260425T212748Z
DTSTART;VALUE=DATE:20160916
DTEND;VALUE=DATE:20160919
SUMMARY:3. DBV-RLT O19
END:VEVENT
BEGIN:VEVENT
UID:20260425T232748CEST-7461PUI7L3@83.223.95.37
DTSTAMP:20260425T212748Z
DTSTART;VALUE=DATE:20160917
DTEND;VALUE=DATE:20160919
SUMMARY:VICTOR REM Doppel/Mixed U13-U19
END:VEVENT
BEGIN:VEVENT
UID:20260425T232748CEST-7464Hu7Mds@83.223.95.37
DTSTAMP:20260425T212748Z
DTSTART;VALUE=DATE:20160917
DTEND;VALUE=DATE:20160919
SUMMARY:BVR REM Breitensport Einzel/Doppel/Mixed O19
END:VEVENT
BEGIN:VEVENT
UID:20260425T232748CEST-746649tjA9@83.223.95.37
DTSTAMP:20260425T212748Z
DTSTART;VALUE=DATE:20160919
DTEND;VALUE=DATE:20160920
SUMMARY:Meldeschluss 3. OLIVER Mini-Cup
END:VEVENT
BEGIN:VEVENT
UID:20260425T232748CEST-74698V5sC1@83.223.95.37
DTSTAMP:20260425T212748Z
DTSTART;VALUE=DATE:20160924
DTEND;VALUE=DATE:20160925
SUMMARY:3. OLIVER Mini-Cup Einzel U9-U12
END:VEVENT
BEGIN:VEVENT
UID:20260425T232748CEST-7471OGSaDV@83.223.95.37
DTSTAMP:20260425T212748Z
DTSTART;VALUE=DATE:20160924
DTEND;VALUE=DATE:20160926
SUMMARY:Leistungssport-Lehrgang
END:VEVENT
BEGIN:VEVENT
UID:20260425T232748CEST-7474iunk5b@83.223.95.37
DTSTAMP:20260425T212748Z
DTSTART;VALUE=DATE:20160925
DTEND;VALUE=DATE:20160926
SUMMARY:Spieltag RMM (1)
END:VEVENT
BEGIN:VEVENT
UID:20260425T232748CEST-7476unNwHU@83.223.95.37
DTSTAMP:20260425T212748Z
DTSTART;VALUE=DATE:20160925
DTEND;VALUE=DATE:20160926
SUMMARY:Spieltag 1 - GM/RLP-Liga
END:VEVENT
BEGIN:VEVENT
UID:20260425T232748CEST-7479m7vOp3@83.223.95.37
DTSTAMP:20260425T212748Z
DTSTART;VALUE=DATE:20161001
DTEND;VALUE=DATE:20161003
SUMMARY:2. SWD-RLT Einzel/Doppel/Mixed U13-U19
END:VEVENT
BEGIN:VEVENT
UID:20260425T232748CEST-7481CjZmKJ@83.223.95.37
DTSTAMP:20260425T212748Z
DTSTART;VALUE=DATE:20161008
DTEND;VALUE=DATE:20161009
SUMMARY:Spieltag RMM (2)
END:VEVENT
BEGIN:VEVENT
UID:20260425T232748CEST-7484mzpoAb@83.223.95.37
DTSTAMP:20260425T212748Z
DTSTART;VALUE=DATE:20161009
DTEND;VALUE=DATE:20161010
SUMMARY:Spieltag RMM (Ersatz)
END:VEVENT
BEGIN:VEVENT
UID:20260425T232748CEST-74862hoJRi@83.223.95.37
DTSTAMP:20260425T212748Z
DTSTART;VALUE=DATE:20161022
DTEND;VALUE=DATE:20161024
SUMMARY:1. DBV-RLT U15/U17
END:VEVENT
BEGIN:VEVENT
UID:20260425T232748CEST-7489jO9Bi4@83.223.95.37
DTSTAMP:20260425T212748Z
DTSTART;VALUE=DATE:20161022
DTEND;VALUE=DATE:20161023
SUMMARY:Spieltag RMM (Ersatz)
END:VEVENT
BEGIN:VEVENT
UID:20260425T232748CEST-7492s8phfV@83.223.95.37
DTSTAMP:20260425T212748Z
DTSTART;VALUE=DATE:20161022
DTEND;VALUE=DATE:20161023
SUMMARY:Spieltag GM/RLP-Liga (2)
END:VEVENT
BEGIN:VEVENT
UID:20260425T232748CEST-7494kH0HBW@83.223.95.37
DTSTAMP:20260425T212748Z
DTSTART;VALUE=DATE:20161022
DTEND;VALUE=DATE:20161023
SUMMARY:Meldeschluss Lehrgang für Talentteam und Talentsichtung U9-U12
END:VEVENT
BEGIN:VEVENT
UID:20260425T232748CEST-7497ub4072@83.223.95.37
DTSTAMP:20260425T212748Z
DTSTART;VALUE=DATE:20161023
DTEND;VALUE=DATE:20161024
SUMMARY:Spieltag RMM (3)
END:VEVENT
BEGIN:VEVENT
UID:20260425T232748CEST-7499u8DxSO@83.223.95.37
DTSTAMP:20260425T212748Z
DTSTART;VALUE=DATE:20161023
DTEND;VALUE=DATE:20161024
SUMMARY:Spieltag GM/RLP-Liga (3)
END:VEVENT
BEGIN:VEVENT
UID:20260425T232748CEST-7502HpbEus@83.223.95.37
DTSTAMP:20260425T212748Z
DTSTART;VALUE=DATE:20161025
DTEND;VALUE=DATE:20161026
SUMMARY:Meldeschluss VICTOR REM Einzel U13-U19
END:VEVENT
BEGIN:VEVENT
UID:20260425T232748CEST-7504iUwGX1@83.223.95.37
DTSTAMP:20260425T212748Z
DTSTART;VALUE=DATE:20161029
DTEND;VALUE=DATE:20161030
SUMMARY:VICTOR REM Einzel U13-U19
END:VEVENT
BEGIN:VEVENT
UID:20260425T232748CEST-7507CULMRo@83.223.95.37
DTSTAMP:20260425T212748Z
DTSTART;VALUE=DATE:20161029
DTEND;VALUE=DATE:20161030
SUMMARY:Lehrgang für Talentteam und Talentsichtung U9-U12
END:VEVENT
BEGIN:VEVENT
UID:20260425T232748CEST-75107GrVal@83.223.95.37
DTSTAMP:20260425T212748Z
DTSTART;VALUE=DATE:20161105
DTEND;VALUE=DATE:20161107
SUMMARY:1. DBV-RLT U13/U19
END:VEVENT
BEGIN:VEVENT
UID:20260425T232748CEST-7513JXlunu@83.223.95.37
DTSTAMP:20260425T212748Z
DTSTART;VALUE=DATE:20161105
DTEND;VALUE=DATE:20161107
SUMMARY:2. BVR-RLT Einzel/Doppel/Mixed O19
END:VEVENT
BEGIN:VEVENT
UID:20260425T232748CEST-7515bsMZpM@83.223.95.37
DTSTAMP:20260425T212748Z
DTSTART;VALUE=DATE:20161106
DTEND;VALUE=DATE:20161107
SUMMARY:Meldeschluss: VICTOR REM Einzel/Doppel U11
END:VEVENT
BEGIN:VEVENT
UID:20260425T232748CEST-7518o1zVTU@83.223.95.37
DTSTAMP:20260425T212748Z
DTSTART;VALUE=DATE:20161112
DTEND;VALUE=DATE:20161114
SUMMARY:2. DBV-RLT U15/U17
END:VEVENT
BEGIN:VEVENT
UID:20260425T232748CEST-7521D7sgGj@83.223.95.37
DTSTAMP:20260425T212748Z
DTSTART;VALUE=DATE:20161112
DTEND;VALUE=DATE:20161113
SUMMARY:Spieltag RMM (4)
END:VEVENT
BEGIN:VEVENT
UID:20260425T232748CEST-7523KPXEba@83.223.95.37
DTSTAMP:20260425T212748Z
DTSTART;VALUE=DATE:20161112
DTEND;VALUE=DATE:20161113
SUMMARY:Spieltag GM/RLP-Liga (4)
END:VEVENT
BEGIN:VEVENT
UID:20260425T232748CEST-7526IWVd0v@83.223.95.37
DTSTAMP:20260425T212748Z
DTSTART;VALUE=DATE:20161112
DTEND;VALUE=DATE:20161113
SUMMARY:VICTOR REM Einzel/Doppel U11
END:VEVENT
BEGIN:VEVENT
UID:20260425T232748CEST-7529mC2XEe@83.223.95.37
DTSTAMP:20260425T212748Z
DTSTART;VALUE=DATE:20161113
DTEND;VALUE=DATE:20161114
SUMMARY:Spieltag RMM (5)
END:VEVENT
BEGIN:VEVENT
UID:20260425T232748CEST-7531EVnixW@83.223.95.37
DTSTAMP:20260425T212748Z
DTSTART;VALUE=DATE:20161113
DTEND;VALUE=DATE:20161114
SUMMARY:Spieltag GM/RLP-Liga (5)
END:VEVENT
BEGIN:VEVENT
UID:20260425T232748CEST-7534eucVEr@83.223.95.37
DTSTAMP:20260425T212748Z
DTSTART;VALUE=DATE:20161115
DTEND;VALUE=DATE:20161116
SUMMARY:Meldeschluss 6er Mannschaftsmeisterschaft U15/U19
END:VEVENT
BEGIN:VEVENT
UID:20260425T232748CEST-7537KJ8CVz@83.223.95.37
DTSTAMP:20260425T212748Z
DTSTART;VALUE=DATE:20161118
DTEND;VALUE=DATE:20161121
SUMMARY:4. DBV-RLT O19
END:VEVENT
BEGIN:VEVENT
UID:20260425T232748CEST-7539trJ6lW@83.223.95.37
DTSTAMP:20260425T212748Z
DTSTART;VALUE=DATE:20161119
DTEND;VALUE=DATE:20161121
SUMMARY:Spieltag RMM (E)
END:VEVENT
BEGIN:VEVENT
UID:20260425T232748CEST-7542A7J4F4@83.223.95.37
DTSTAMP:20260425T212748Z
DTSTART;VALUE=DATE:20161120
DTEND;VALUE=DATE:20161121
SUMMARY:Meldeschluss: 2. VICTOR Nachwuchsturnier Einzel U13-U19
END:VEVENT
BEGIN:VEVENT
UID:20260425T232748CEST-7545uvm9Vv@83.223.95.37
DTSTAMP:20260425T212748Z
DTSTART;VALUE=DATE:20161126
DTEND;VALUE=DATE:20161128
SUMMARY:3. DBV-RLT U15/U17
END:VEVENT
BEGIN:VEVENT
UID:20260425T232748CEST-7548nUMdCL@83.223.95.37
DTSTAMP:20260425T212748Z
DTSTART;VALUE=DATE:20161126
DTEND;VALUE=DATE:20161127
SUMMARY:Spieltag RMM (6)
END:VEVENT
BEGIN:VEVENT
UID:20260425T232748CEST-7555t2t2ap@83.223.95.37
DTSTAMP:20260425T212748Z
DTSTART;VALUE=DATE:20161126
DTEND;VALUE=DATE:20161127
SUMMARY:Spieltag GM/RLP-Liga (6)
END:VEVENT
BEGIN:VEVENT
UID:20260425T232748CEST-7557MBCbcU@83.223.95.37
DTSTAMP:20260425T212748Z
DTSTART;VALUE=DATE:20161127
DTEND;VALUE=DATE:20161128
SUMMARY:Spieltag RMM (7)
END:VEVENT
BEGIN:VEVENT
UID:20260425T232748CEST-7560NOb1SB@83.223.95.37
DTSTAMP:20260425T212748Z
DTSTART;VALUE=DATE:20161127
DTEND;VALUE=DATE:20161128
SUMMARY:Spieltag GM/RLP-Liga (7)
END:VEVENT
BEGIN:VEVENT
UID:20260425T232748CEST-7563I4afJE@83.223.95.37
DTSTAMP:20260425T212748Z
DTSTART;VALUE=DATE:20161127
DTEND;VALUE=DATE:20161128
SUMMARY:2. VICTOR Nachwuchsturnier Einzel U13-U19
END:VEVENT
BEGIN:VEVENT
UID:20260425T232748CEST-7566tEb9az@83.223.95.37
DTSTAMP:20260425T212748Z
DTSTART;VALUE=DATE:20161127
DTEND;VALUE=DATE:20161128
SUMMARY:Meldeschluss: REM Einzel/Doppel/Mixed O19
END:VEVENT
BEGIN:VEVENT
UID:20260425T232748CEST-7568pU2ZBo@83.223.95.37
DTSTAMP:20260425T212748Z
DTSTART;VALUE=DATE:20161201
DTEND;VALUE=DATE:20161202
SUMMARY:Meldeschluss: RMM - Namentliche Ranglisten (Rückrunde)
END:VEVENT
BEGIN:VEVENT
UID:20260425T232748CEST-7571Ru7ugV@83.223.95.37
DTSTAMP:20260425T212748Z
DTSTART;VALUE=DATE:20161203
DTEND;VALUE=DATE:20161205
SUMMARY:REM Einzel/Doppel/Mixed O19
END:VEVENT
BEGIN:VEVENT
UID:20260425T232748CEST-7573Zmdv1t@83.223.95.37
DTSTAMP:20260425T212748Z
DTSTART;VALUE=DATE:20161210
DTEND;VALUE=DATE:20161212
SUMMARY:2. DBV-RLT U13/U19
END:VEVENT
BEGIN:VEVENT
UID:20260425T232748CEST-7576Rg2glv@83.223.95.37
DTSTAMP:20260425T212748Z
DTSTART;VALUE=DATE:20161217
DTEND;VALUE=DATE:20161218
SUMMARY:6er Mannschaftsmeisterschaft U15
END:VEVENT
BEGIN:VEVENT
UID:20260425T232748CEST-7579leh91O@83.223.95.37
DTSTAMP:20260425T212748Z
DTSTART;VALUE=DATE:20161231
DTEND;VALUE=DATE:20170101
SUMMARY:Meldeschluss: Leistungssport Workshop
END:VEVENT
BEGIN:VEVENT
UID:20260425T232748CEST-7581KNukRw@83.223.95.37
DTSTAMP:20260425T212748Z
DTSTART;VALUE=DATE:20170107
DTEND;VALUE=DATE:20170109
SUMMARY:SWD-Meisterschaften Einzel/Doppel/Mixed O19
END:VEVENT
BEGIN:VEVENT
UID:20260425T232748CEST-7584vAnRp4@83.223.95.37
DTSTAMP:20260425T212748Z
DTSTART;VALUE=DATE:20170107
DTEND;VALUE=DATE:20170109
SUMMARY:Leistungssport-Lehrgang
END:VEVENT
BEGIN:VEVENT
UID:20260425T232748CEST-7587u9NfU6@83.223.95.37
DTSTAMP:20260425T212748Z
DTSTART;VALUE=DATE:20170113
DTEND;VALUE=DATE:20170114
SUMMARY:Meldeschluss: REM Einzel/Doppel/Mixed U22/O35+
END:VEVENT
BEGIN:VEVENT
UID:20260425T232748CEST-75892K7cjN@83.223.95.37
DTSTAMP:20260425T212748Z
DTSTART;VALUE=DATE:20170114
DTEND;VALUE=DATE:20170116
SUMMARY:SWD-Meisterschaften Einzel/Doppel/Mixed U13-U19
END:VEVENT
BEGIN:VEVENT
UID:20260425T232748CEST-7592Ceo89f@83.223.95.37
DTSTAMP:20260425T212748Z
DTSTART:20170114T110000
DTEND:20170114T130000
SUMMARY:Leitstungssport Workshop
END:VEVENT
BEGIN:VEVENT
UID:20260425T232748CEST-75952DnGxa@83.223.95.37
DTSTAMP:20260425T212748Z
DTSTART;VALUE=DATE:20170121
DTEND;VALUE=DATE:20170122
SUMMARY:Spieltag GM/RLP-Liga (Ersatz)
END:VEVENT
BEGIN:VEVENT
UID:20260425T232748CEST-7598h8v98v@83.223.95.37
DTSTAMP:20260425T212748Z
DTSTART;VALUE=DATE:20170121
DTEND;VALUE=DATE:20170122
SUMMARY:REM Einzel/Doppel/Mixed U22/O35+
END:VEVENT
BEGIN:VEVENT
UID:20260425T232748CEST-7600o7B34F@83.223.95.37
DTSTAMP:20260425T212748Z
DTSTART;VALUE=DATE:20170122
DTEND;VALUE=DATE:20170123
SUMMARY:Spieltag GM/RLP-Liga (8)
END:VEVENT
BEGIN:VEVENT
UID:20260425T232748CEST-7603saVDdm@83.223.95.37
DTSTAMP:20260425T212748Z
DTSTART;VALUE=DATE:20170128
DTEND;VALUE=DATE:20170129
SUMMARY:Spieltag GM/RLP-Liga (9)
END:VEVENT
BEGIN:VEVENT
UID:20260425T232748CEST-7606I2ndpp@83.223.95.37
DTSTAMP:20260425T212748Z
DTSTART;VALUE=DATE:20170128
DTEND;VALUE=DATE:20170129
SUMMARY:Spieltag RMM (9)
END:VEVENT
BEGIN:VEVENT
UID:20260425T232748CEST-7609Utmubp@83.223.95.37
DTSTAMP:20260425T212748Z
DTSTART;VALUE=DATE:20170129
DTEND;VALUE=DATE:20170130
SUMMARY:Spieltag GM/RLP-Liga (10)
END:VEVENT
BEGIN:VEVENT
UID:20260425T232748CEST-7612faFMem@83.223.95.37
DTSTAMP:20260425T212748Z
DTSTART;VALUE=DATE:20170129
DTEND;VALUE=DATE:20170130
SUMMARY:Spieltag RMM (10)
END:VEVENT
BEGIN:VEVENT
UID:20260425T232748CEST-7614URGfu7@83.223.95.37
DTSTAMP:20260425T212748Z
DTSTART;VALUE=DATE:20170129
DTEND;VALUE=DATE:20170130
SUMMARY:Meldeschluss: Schiedsrichter-Grundlehrgang
END:VEVENT
BEGIN:VEVENT
UID:20260425T232748CEST-7617SvujL7@83.223.95.37
DTSTAMP:20260425T212748Z
DTSTART;VALUE=DATE:20170203
DTEND;VALUE=DATE:20170204
SUMMARY:6er Mannschaftsmeisterschaft U19
END:VEVENT
BEGIN:VEVENT
UID:20260425T232748CEST-76207SmbKv@83.223.95.37
DTSTAMP:20260425T212748Z
DTSTART;VALUE=DATE:20170204
DTEND;VALUE=DATE:20170205
SUMMARY:MMM Endrunde U15
END:VEVENT
BEGIN:VEVENT
UID:20260425T232748CEST-7622CZbdse@83.223.95.37
DTSTAMP:20260425T212748Z
DTSTART;VALUE=DATE:20170205
DTEND;VALUE=DATE:20170206
SUMMARY:MMM Endrunde U19
END:VEVENT
BEGIN:VEVENT
UID:20260425T232748CEST-7625vV6blu@83.223.95.37
DTSTAMP:20260425T212748Z
DTSTART;VALUE=DATE:20170211
DTEND;VALUE=DATE:20170212
SUMMARY:Spieltag GM/RLP-Liga (11)
END:VEVENT
BEGIN:VEVENT
UID:20260425T232748CEST-7628Vl73sD@83.223.95.37
DTSTAMP:20260425T212748Z
DTSTART;VALUE=DATE:20170211
DTEND;VALUE=DATE:20170213
SUMMARY:Spieltag RMM (Ersatz)
END:VEVENT
BEGIN:VEVENT
UID:20260425T232748CEST-7631dTfvIh@83.223.95.37
DTSTAMP:20260425T212748Z
DTSTART;VALUE=DATE:20170212
DTEND;VALUE=DATE:20170213
SUMMARY:Spieltag GM/RLP-Liga (12)
END:VEVENT
BEGIN:VEVENT
UID:20260425T232748CEST-7634Vv5E2L@83.223.95.37
DTSTAMP:20260425T212748Z
DTSTART;VALUE=DATE:20170212
DTEND;VALUE=DATE:20170213
SUMMARY:MMM Endrunde U12
END:VEVENT
BEGIN:VEVENT
UID:20260425T232748CEST-7637AHT3ao@83.223.95.37
DTSTAMP:20260425T212748Z
DTSTART;VALUE=DATE:20170214
DTEND;VALUE=DATE:20170215
SUMMARY:Meldeschluss: 1. OLIVER Mini-Cup 2017
END:VEVENT
BEGIN:VEVENT
UID:20260425T232748CEST-7639uZa0Mb@83.223.95.37
DTSTAMP:20260425T212748Z
DTSTART;VALUE=DATE:20170218
DTEND;VALUE=DATE:20170220
SUMMARY:Schiedsrichter-Grundlehrgang -Teil 1
END:VEVENT
BEGIN:VEVENT
UID:20260425T232748CEST-7642g2NUb6@83.223.95.37
DTSTAMP:20260425T212748Z
DTSTART;VALUE=DATE:20170219
DTEND;VALUE=DATE:20170220
SUMMARY:1. OLIVER Mini-Cup Einzel U9-U12
END:VEVENT
BEGIN:VEVENT
UID:20260425T232748CEST-7645hfWJuM@83.223.95.37
DTSTAMP:20260425T212748Z
DTSTART;VALUE=DATE:20170302
DTEND;VALUE=DATE:20170303
SUMMARY:Deutsche Mannschaftsmeisterschaft U19
END:VEVENT
BEGIN:VEVENT
UID:20260425T232748CEST-7647w5ZUwn@83.223.95.37
DTSTAMP:20260425T212748Z
DTSTART;VALUE=DATE:20170304
DTEND;VALUE=DATE:20170306
SUMMARY:Spieltag RMM (11)
END:VEVENT
BEGIN:VEVENT
UID:20260425T232748CEST-7650uidZtE@83.223.95.37
DTSTAMP:20260425T212748Z
DTSTART;VALUE=DATE:20170305
DTEND;VALUE=DATE:20170306
SUMMARY:Meldeschluss 1. VICTOR Nachwuchsturnier 2017
END:VEVENT
BEGIN:VEVENT
UID:20260425T232748CEST-7653w756MU@83.223.95.37
DTSTAMP:20260425T212748Z
DTSTART;VALUE=DATE:20170311
DTEND;VALUE=DATE:20170313
SUMMARY:Spieltag RMM (12)
END:VEVENT
BEGIN:VEVENT
UID:20260425T232748CEST-7655Lr8FlI@83.223.95.37
DTSTAMP:20260425T212748Z
DTSTART;VALUE=DATE:20170312
DTEND;VALUE=DATE:20170313
SUMMARY:1. VICTOR Nachwuchsturnier Einzel U11-U19
END:VEVENT
BEGIN:VEVENT
UID:20260425T232748CEST-7658dGBJEp@83.223.95.37
DTSTAMP:20260425T212748Z
DTSTART:20170312T110000
DTEND:20170312T140000
SUMMARY:BVR-Jugendwartevollversammlung
END:VEVENT
END:VCALENDAR
